BEGIN:VCALENDAR
VERSION:2.0
PRODID:-//Help Me Grow - Small business coaching - ECPv6.15.17.1//NONSGML v1.0//EN
CALSCALE:GREGORIAN
METHOD:PUBLISH
X-WR-CALNAME:Help Me Grow - Small business coaching
X-ORIGINAL-URL:https://helpmegrow.co.uk
X-WR-CALDESC:Events for Help Me Grow - Small business coaching
REFRESH-INTERVAL;VALUE=DURATION:PT1H
X-Robots-Tag:noindex
X-PUBLISHED-TTL:PT1H
BEGIN:VTIMEZONE
TZID:Europe/London
BEGIN:DAYLIGHT
TZOFFSETFROM:+0000
TZOFFSETTO:+0100
TZNAME:BST
DTSTART:20210328T010000
END:DAYLIGHT
BEGIN:STANDARD
TZOFFSETFROM:+0100
TZOFFSETTO:+0000
TZNAME:GMT
DTSTART:20211031T010000
END:STANDARD
BEGIN:DAYLIGHT
TZOFFSETFROM:+0000
TZOFFSETTO:+0100
TZNAME:BST
DTSTART:20220327T010000
END:DAYLIGHT
BEGIN:STANDARD
TZOFFSETFROM:+0100
TZOFFSETTO:+0000
TZNAME:GMT
DTSTART:20221030T010000
END:STANDARD
BEGIN:DAYLIGHT
TZOFFSETFROM:+0000
TZOFFSETTO:+0100
TZNAME:BST
DTSTART:20230326T010000
END:DAYLIGHT
BEGIN:STANDARD
TZOFFSETFROM:+0100
TZOFFSETTO:+0000
TZNAME:GMT
DTSTART:20231029T010000
END:STANDARD
END:VTIMEZONE
BEGIN:VEVENT
DTSTART;TZID=Europe/London:20220909T090000
DTEND;TZID=Europe/London:20220909T110000
DTSTAMP:20260422T172643
CREATED:20220903T122627Z
LAST-MODIFIED:20220903T123818Z
UID:10078-1662714000-1662721200@helpmegrow.co.uk
SUMMARY:BNI Blackwater Valley Networking
DESCRIPTION:BNI Blackwater Valley\nOur members are business professionals who help each other grow their businesses through their commitment to our principal core value\, Givers Gain®. \nEach week\, in thousands of communities across the globe\, members meet with other trusted business leaders to build and nurture lasting relationships and pass qualified business referrals.  Membership in BNI® offers access to business training\, peer learning and opportunities to network and do business with hundreds of thousands of BNI® members around the world. \nLast year\, BNI members in this area generated over £7.2 million worth of business for each other. If you’d like to find out how\, then visit a local chapter meeting and see for yourself what it’s like. Each chapter has a personality of its own\, and finding where you fit best helps you to get connected. \nMatthew Russell presenting at BNI Blackwater Valley
URL:https://helpmegrow.co.uk/event/bni-blackwater-valley-networking/
LOCATION:The Ely Hotel & Public House\, The Ely Public House\, London Road\, Blackwater\, Hampshire\, GU17 9LJ\, United Kingdom
CATEGORIES:Networking Events
END:VEVENT
END:VCALENDAR