BEGIN:VCALENDAR
VERSION:2.0
PRODID:-//Help Me Grow - Small business coaching - ECPv6.15.17.1//NONSGML v1.0//EN
CALSCALE:GREGORIAN
METHOD:PUBLISH
X-WR-CALNAME:Help Me Grow - Small business coaching
X-ORIGINAL-URL:https://helpmegrow.co.uk
X-WR-CALDESC:Events for Help Me Grow - Small business coaching
REFRESH-INTERVAL;VALUE=DURATION:PT1H
X-Robots-Tag:noindex
X-PUBLISHED-TTL:PT1H
BEGIN:VTIMEZONE
TZID:Europe/London
BEGIN:DAYLIGHT
TZOFFSETFROM:+0000
TZOFFSETTO:+0100
TZNAME:BST
DTSTART:20220327T010000
END:DAYLIGHT
BEGIN:STANDARD
TZOFFSETFROM:+0100
TZOFFSETTO:+0000
TZNAME:GMT
DTSTART:20221030T010000
END:STANDARD
BEGIN:DAYLIGHT
TZOFFSETFROM:+0000
TZOFFSETTO:+0100
TZNAME:BST
DTSTART:20230326T010000
END:DAYLIGHT
BEGIN:STANDARD
TZOFFSETFROM:+0100
TZOFFSETTO:+0000
TZNAME:GMT
DTSTART:20231029T010000
END:STANDARD
BEGIN:DAYLIGHT
TZOFFSETFROM:+0000
TZOFFSETTO:+0100
TZNAME:BST
DTSTART:20240331T010000
END:DAYLIGHT
BEGIN:STANDARD
TZOFFSETFROM:+0100
TZOFFSETTO:+0000
TZNAME:GMT
DTSTART:20241027T010000
END:STANDARD
END:VTIMEZONE
BEGIN:VEVENT
DTSTART;TZID=Europe/London:20230106T093000
DTEND;TZID=Europe/London:20230106T110000
DTSTAMP:20260422T073842
CREATED:20221213T161638Z
LAST-MODIFIED:20221213T161933Z
UID:10231-1672997400-1673002800@helpmegrow.co.uk
SUMMARY:BNI Blackwater Valley Camberley - Business Networking 2023
DESCRIPTION:BNI Blackwater Valley Camberley – Blackwater’s Leading Business Networking Event\nConnect and Grow your business with inspiring business owners from Blackwater and Surrounding area by joining BNI Blackwater Valley next networking event. \nOver the past 12 Months (August 2022) BNI BWV passed over £300\,000 worth of confirmed business to its members. \nIs that business you could be missing out on? \nBNI Blackwater Valley is a non-for-profit Blackwater business networking organisation which meets weekly at The Ely Hotel \nOur members represent businesses in Blackwater and Surrounding Areas and showcase the best from industries including Financial & Professional Services & Creative Industries \nBNI Blackwater Valley focus is on helping local small business owners to connect and build meaningful business relationships. Through its structured; supportive\, face to face business networking events\, local business owners can generate significant business for each other. \n___ \nFriday 09:30 AM \nThe Ely Hotel\, London Road\, Blackwater\, Hampshire\, GU17 9LJ \nRegister Now \n_____ \nOur leadership team is focused on creating the best networking group in Blackwater and contribute to wider business networking in Hampshire. \nThis group is ideal for business professionals in Camberley\, Blackwater\, Aldershot\, Yateley area who want to widen their networking opportunities in North Hampshire and meet new people grow their business through structured networking. \n  \nAbout Membership for BNI Blackwater Valley\nVisitors are permitted to attend up to a maximum of two meetings. \nVisitors who wish to register as a Member will be required to complete a membership application form\, from which the application form will be reviewed by the Leadership team. Membership is not guaranteed and based on an industry first come\, first serve basis. \n  \nFrequently Asked Questions About BNI Blackwater Valley\nHow much are visitor fees to attend?\nAs a visitor you maybe expected to pay a visitor fee which covers room hire and breakfast (where available). This can range from £10-£15 per visitor. Further details will be made available once your ticket is confirmed. \nWhat makes BNI Blackwater Valley different from other networking groups in Blackwater?\nBNI Blackwater Valley is a structured\, supportive group that pass qualified business referrals which are quality checked and tracked. No other networking groups come close in terms of the support that is offered. \nHow long will I get to talk about my business?\nAs a member of BNI you will get 60 seconds every week to talk about your business as well as a 10 minute slot on a 10 minute speaker rotation to educate other members about your business and who you are looking for in terms of referrals. \n 
URL:https://helpmegrow.co.uk/event/bni-blackwater-valley-camberley-business-networking-blackwater/
LOCATION:The Ely Hotel & Public House\, The Ely Public House\, London Road\, Blackwater\, Hampshire\, GU17 9LJ\, United Kingdom
CATEGORIES:Camberley Business Events,Networking Events
ATTACH;FMTTYPE=image/png:https://helpmegrow.co.uk/wp-content/uploads/2022/09/BNI.png
END:VEVENT
BEGIN:VEVENT
DTSTART;TZID=Europe/London:20230106T093000
DTEND;TZID=Europe/London:20230106T110000
DTSTAMP:20260422T073842
CREATED:20231201T195136Z
LAST-MODIFIED:20231211T194021Z
UID:11815-1672997400-1673002800@helpmegrow.co.uk
SUMMARY:BNI Blackwater Valley Farnborough Business Networking 2024
DESCRIPTION:BNI Blackwater Valley Camberley – Blackwater’s Leading Business Networking Event\nConnect and Grow your business with inspiring business owners from Blackwater and Surrounding area by joining BNI Blackwater Valley next networking event. \nOver the past 12 Months (October 2023) BNI BWV passed over £850\,000 worth of confirmed business to its members. \nIs that business you could be missing out on? \nBNI Blackwater Valley is a non-for-profit Blackwater business networking organisation which meets weekly at The Boardroom at Farnborough Masonic Centre\, 37 Alexandra Road\, Farnborough\, Hampshire\, Gu14 6BS \nOur members represent businesses in Blackwater and Surrounding Areas and showcase the best from industries including Financial & Professional Services & Creative Industries \nBNI Blackwater Valley focus is on helping local small business owners to connect and build meaningful business relationships. Through its structured; supportive\, face to face business networking events\, local business owners can generate significant business for each other. \n___ \nFriday 09:00 AM \nThe Boardroom at Farnborough Masonic Centre\, 37 Alexandra Road\, Farnborough\, Hampshire\, Gu14 6BS \nRegister Now \n_____ \nOur leadership team is focused on creating the best networking group in Blackwater and contribute to wider business networking in Hampshire. \nThis group is ideal for business professionals in Camberley\, Blackwater\, Aldershot\, Yateley area who want to widen their networking opportunities in North Hampshire and meet new people grow their business through structured networking. \n  \nAbout Membership for BNI Blackwater Valley\nVisitors are permitted to attend up to a maximum of two meetings. \nVisitors who wish to register as a Member will be required to complete a membership application form\, from which the application form will be reviewed by the Leadership team. Membership is not guaranteed and based on an industry first come\, first serve basis. \n  \nFrequently Asked Questions About BNI Blackwater Valley\nHow much are visitor fees to attend?\nAs a visitor you maybe expected to pay a visitor fee which covers room hire and breakfast (where available). This can range from £10-£15 per visitor. Further details will be made available once your ticket is confirmed. \nWhat makes BNI Blackwater Valley different from other networking groups in Blackwater?\nBNI Blackwater Valley is a structured\, supportive group that pass qualified business referrals which are quality checked and tracked. No other networking groups come close in terms of the support that is offered. \nHow long will I get to talk about my business?\nAs a member of BNI you will get 60 seconds every week to talk about your business as well as a 10 minute slot on a 10 minute speaker rotation to educate other members about your business and who you are looking for in terms of referrals. \n 
URL:https://helpmegrow.co.uk/event/bni-blackwater-valley-farnborough-business-networking-2024/
LOCATION:The Ely Hotel & Public House\, The Ely Public House\, London Road\, Blackwater\, Hampshire\, GU17 9LJ\, United Kingdom
CATEGORIES:Camberley Business Events,Networking Events
ATTACH;FMTTYPE=image/png:https://helpmegrow.co.uk/wp-content/uploads/2022/09/BNI.png
END:VEVENT
BEGIN:VEVENT
DTSTART;TZID=Europe/London:20230106T093000
DTEND;TZID=Europe/London:20230106T110000
DTSTAMP:20260422T073842
CREATED:20221213T161638Z
LAST-MODIFIED:20221213T161933Z
UID:10231-1672997400-1673002800@helpmegrow.co.uk
SUMMARY:BNI Blackwater Valley Camberley - Business Networking 2023
DESCRIPTION:BNI Blackwater Valley Camberley – Blackwater’s Leading Business Networking Event\nConnect and Grow your business with inspiring business owners from Blackwater and Surrounding area by joining BNI Blackwater Valley next networking event. \nOver the past 12 Months (August 2022) BNI BWV passed over £300\,000 worth of confirmed business to its members. \nIs that business you could be missing out on? \nBNI Blackwater Valley is a non-for-profit Blackwater business networking organisation which meets weekly at The Ely Hotel \nOur members represent businesses in Blackwater and Surrounding Areas and showcase the best from industries including Financial & Professional Services & Creative Industries \nBNI Blackwater Valley focus is on helping local small business owners to connect and build meaningful business relationships. Through its structured; supportive\, face to face business networking events\, local business owners can generate significant business for each other. \n___ \nFriday 09:30 AM \nThe Ely Hotel\, London Road\, Blackwater\, Hampshire\, GU17 9LJ \nRegister Now \n_____ \nOur leadership team is focused on creating the best networking group in Blackwater and contribute to wider business networking in Hampshire. \nThis group is ideal for business professionals in Camberley\, Blackwater\, Aldershot\, Yateley area who want to widen their networking opportunities in North Hampshire and meet new people grow their business through structured networking. \n  \nAbout Membership for BNI Blackwater Valley\nVisitors are permitted to attend up to a maximum of two meetings. \nVisitors who wish to register as a Member will be required to complete a membership application form\, from which the application form will be reviewed by the Leadership team. Membership is not guaranteed and based on an industry first come\, first serve basis. \n  \nFrequently Asked Questions About BNI Blackwater Valley\nHow much are visitor fees to attend?\nAs a visitor you maybe expected to pay a visitor fee which covers room hire and breakfast (where available). This can range from £10-£15 per visitor. Further details will be made available once your ticket is confirmed. \nWhat makes BNI Blackwater Valley different from other networking groups in Blackwater?\nBNI Blackwater Valley is a structured\, supportive group that pass qualified business referrals which are quality checked and tracked. No other networking groups come close in terms of the support that is offered. \nHow long will I get to talk about my business?\nAs a member of BNI you will get 60 seconds every week to talk about your business as well as a 10 minute slot on a 10 minute speaker rotation to educate other members about your business and who you are looking for in terms of referrals. \n 
URL:https://helpmegrow.co.uk/event/bni-blackwater-valley-camberley-business-networking-blackwater/
LOCATION:The Ely Hotel & Public House\, The Ely Public House\, London Road\, Blackwater\, Hampshire\, GU17 9LJ\, United Kingdom
CATEGORIES:Camberley Business Events,Networking Events
ATTACH;FMTTYPE=image/png:https://helpmegrow.co.uk/wp-content/uploads/2022/09/BNI.png
END:VEVENT
BEGIN:VEVENT
DTSTART;TZID=Europe/London:20230106T093000
DTEND;TZID=Europe/London:20230106T110000
DTSTAMP:20260422T073842
CREATED:20231201T195136Z
LAST-MODIFIED:20231211T194021Z
UID:11815-1672997400-1673002800@helpmegrow.co.uk
SUMMARY:BNI Blackwater Valley Farnborough Business Networking 2024
DESCRIPTION:BNI Blackwater Valley Camberley – Blackwater’s Leading Business Networking Event\nConnect and Grow your business with inspiring business owners from Blackwater and Surrounding area by joining BNI Blackwater Valley next networking event. \nOver the past 12 Months (October 2023) BNI BWV passed over £850\,000 worth of confirmed business to its members. \nIs that business you could be missing out on? \nBNI Blackwater Valley is a non-for-profit Blackwater business networking organisation which meets weekly at The Boardroom at Farnborough Masonic Centre\, 37 Alexandra Road\, Farnborough\, Hampshire\, Gu14 6BS \nOur members represent businesses in Blackwater and Surrounding Areas and showcase the best from industries including Financial & Professional Services & Creative Industries \nBNI Blackwater Valley focus is on helping local small business owners to connect and build meaningful business relationships. Through its structured; supportive\, face to face business networking events\, local business owners can generate significant business for each other. \n___ \nFriday 09:00 AM \nThe Boardroom at Farnborough Masonic Centre\, 37 Alexandra Road\, Farnborough\, Hampshire\, Gu14 6BS \nRegister Now \n_____ \nOur leadership team is focused on creating the best networking group in Blackwater and contribute to wider business networking in Hampshire. \nThis group is ideal for business professionals in Camberley\, Blackwater\, Aldershot\, Yateley area who want to widen their networking opportunities in North Hampshire and meet new people grow their business through structured networking. \n  \nAbout Membership for BNI Blackwater Valley\nVisitors are permitted to attend up to a maximum of two meetings. \nVisitors who wish to register as a Member will be required to complete a membership application form\, from which the application form will be reviewed by the Leadership team. Membership is not guaranteed and based on an industry first come\, first serve basis. \n  \nFrequently Asked Questions About BNI Blackwater Valley\nHow much are visitor fees to attend?\nAs a visitor you maybe expected to pay a visitor fee which covers room hire and breakfast (where available). This can range from £10-£15 per visitor. Further details will be made available once your ticket is confirmed. \nWhat makes BNI Blackwater Valley different from other networking groups in Blackwater?\nBNI Blackwater Valley is a structured\, supportive group that pass qualified business referrals which are quality checked and tracked. No other networking groups come close in terms of the support that is offered. \nHow long will I get to talk about my business?\nAs a member of BNI you will get 60 seconds every week to talk about your business as well as a 10 minute slot on a 10 minute speaker rotation to educate other members about your business and who you are looking for in terms of referrals. \n 
URL:https://helpmegrow.co.uk/event/bni-blackwater-valley-farnborough-business-networking-2024/
LOCATION:The Ely Hotel & Public House\, The Ely Public House\, London Road\, Blackwater\, Hampshire\, GU17 9LJ\, United Kingdom
CATEGORIES:Camberley Business Events,Networking Events
ATTACH;FMTTYPE=image/png:https://helpmegrow.co.uk/wp-content/uploads/2022/09/BNI.png
END:VEVENT
BEGIN:VEVENT
DTSTART;TZID=Europe/London:20230106T093000
DTEND;TZID=Europe/London:20230106T110000
DTSTAMP:20260422T073842
CREATED:20221213T161638Z
LAST-MODIFIED:20221213T161933Z
UID:10231-1672997400-1673002800@helpmegrow.co.uk
SUMMARY:BNI Blackwater Valley Camberley - Business Networking 2023
DESCRIPTION:BNI Blackwater Valley Camberley – Blackwater’s Leading Business Networking Event\nConnect and Grow your business with inspiring business owners from Blackwater and Surrounding area by joining BNI Blackwater Valley next networking event. \nOver the past 12 Months (August 2022) BNI BWV passed over £300\,000 worth of confirmed business to its members. \nIs that business you could be missing out on? \nBNI Blackwater Valley is a non-for-profit Blackwater business networking organisation which meets weekly at The Ely Hotel \nOur members represent businesses in Blackwater and Surrounding Areas and showcase the best from industries including Financial & Professional Services & Creative Industries \nBNI Blackwater Valley focus is on helping local small business owners to connect and build meaningful business relationships. Through its structured; supportive\, face to face business networking events\, local business owners can generate significant business for each other. \n___ \nFriday 09:30 AM \nThe Ely Hotel\, London Road\, Blackwater\, Hampshire\, GU17 9LJ \nRegister Now \n_____ \nOur leadership team is focused on creating the best networking group in Blackwater and contribute to wider business networking in Hampshire. \nThis group is ideal for business professionals in Camberley\, Blackwater\, Aldershot\, Yateley area who want to widen their networking opportunities in North Hampshire and meet new people grow their business through structured networking. \n  \nAbout Membership for BNI Blackwater Valley\nVisitors are permitted to attend up to a maximum of two meetings. \nVisitors who wish to register as a Member will be required to complete a membership application form\, from which the application form will be reviewed by the Leadership team. Membership is not guaranteed and based on an industry first come\, first serve basis. \n  \nFrequently Asked Questions About BNI Blackwater Valley\nHow much are visitor fees to attend?\nAs a visitor you maybe expected to pay a visitor fee which covers room hire and breakfast (where available). This can range from £10-£15 per visitor. Further details will be made available once your ticket is confirmed. \nWhat makes BNI Blackwater Valley different from other networking groups in Blackwater?\nBNI Blackwater Valley is a structured\, supportive group that pass qualified business referrals which are quality checked and tracked. No other networking groups come close in terms of the support that is offered. \nHow long will I get to talk about my business?\nAs a member of BNI you will get 60 seconds every week to talk about your business as well as a 10 minute slot on a 10 minute speaker rotation to educate other members about your business and who you are looking for in terms of referrals. \n 
URL:https://helpmegrow.co.uk/event/bni-blackwater-valley-camberley-business-networking-blackwater/
LOCATION:The Ely Hotel & Public House\, The Ely Public House\, London Road\, Blackwater\, Hampshire\, GU17 9LJ\, United Kingdom
CATEGORIES:Camberley Business Events,Networking Events
ATTACH;FMTTYPE=image/png:https://helpmegrow.co.uk/wp-content/uploads/2022/09/BNI.png
END:VEVENT
BEGIN:VEVENT
DTSTART;TZID=Europe/London:20230106T093000
DTEND;TZID=Europe/London:20230106T110000
DTSTAMP:20260422T073842
CREATED:20231201T195136Z
LAST-MODIFIED:20231211T194021Z
UID:11815-1672997400-1673002800@helpmegrow.co.uk
SUMMARY:BNI Blackwater Valley Farnborough Business Networking 2024
DESCRIPTION:BNI Blackwater Valley Camberley – Blackwater’s Leading Business Networking Event\nConnect and Grow your business with inspiring business owners from Blackwater and Surrounding area by joining BNI Blackwater Valley next networking event. \nOver the past 12 Months (October 2023) BNI BWV passed over £850\,000 worth of confirmed business to its members. \nIs that business you could be missing out on? \nBNI Blackwater Valley is a non-for-profit Blackwater business networking organisation which meets weekly at The Boardroom at Farnborough Masonic Centre\, 37 Alexandra Road\, Farnborough\, Hampshire\, Gu14 6BS \nOur members represent businesses in Blackwater and Surrounding Areas and showcase the best from industries including Financial & Professional Services & Creative Industries \nBNI Blackwater Valley focus is on helping local small business owners to connect and build meaningful business relationships. Through its structured; supportive\, face to face business networking events\, local business owners can generate significant business for each other. \n___ \nFriday 09:00 AM \nThe Boardroom at Farnborough Masonic Centre\, 37 Alexandra Road\, Farnborough\, Hampshire\, Gu14 6BS \nRegister Now \n_____ \nOur leadership team is focused on creating the best networking group in Blackwater and contribute to wider business networking in Hampshire. \nThis group is ideal for business professionals in Camberley\, Blackwater\, Aldershot\, Yateley area who want to widen their networking opportunities in North Hampshire and meet new people grow their business through structured networking. \n  \nAbout Membership for BNI Blackwater Valley\nVisitors are permitted to attend up to a maximum of two meetings. \nVisitors who wish to register as a Member will be required to complete a membership application form\, from which the application form will be reviewed by the Leadership team. Membership is not guaranteed and based on an industry first come\, first serve basis. \n  \nFrequently Asked Questions About BNI Blackwater Valley\nHow much are visitor fees to attend?\nAs a visitor you maybe expected to pay a visitor fee which covers room hire and breakfast (where available). This can range from £10-£15 per visitor. Further details will be made available once your ticket is confirmed. \nWhat makes BNI Blackwater Valley different from other networking groups in Blackwater?\nBNI Blackwater Valley is a structured\, supportive group that pass qualified business referrals which are quality checked and tracked. No other networking groups come close in terms of the support that is offered. \nHow long will I get to talk about my business?\nAs a member of BNI you will get 60 seconds every week to talk about your business as well as a 10 minute slot on a 10 minute speaker rotation to educate other members about your business and who you are looking for in terms of referrals. \n 
URL:https://helpmegrow.co.uk/event/bni-blackwater-valley-farnborough-business-networking-2024/
LOCATION:The Ely Hotel & Public House\, The Ely Public House\, London Road\, Blackwater\, Hampshire\, GU17 9LJ\, United Kingdom
CATEGORIES:Camberley Business Events,Networking Events
ATTACH;FMTTYPE=image/png:https://helpmegrow.co.uk/wp-content/uploads/2022/09/BNI.png
END:VEVENT
BEGIN:VEVENT
DTSTART;TZID=Europe/London:20230106T093000
DTEND;TZID=Europe/London:20230106T110000
DTSTAMP:20260422T073842
CREATED:20221213T161638Z
LAST-MODIFIED:20221213T161933Z
UID:10231-1672997400-1673002800@helpmegrow.co.uk
SUMMARY:BNI Blackwater Valley Camberley - Business Networking 2023
DESCRIPTION:BNI Blackwater Valley Camberley – Blackwater’s Leading Business Networking Event\nConnect and Grow your business with inspiring business owners from Blackwater and Surrounding area by joining BNI Blackwater Valley next networking event. \nOver the past 12 Months (August 2022) BNI BWV passed over £300\,000 worth of confirmed business to its members. \nIs that business you could be missing out on? \nBNI Blackwater Valley is a non-for-profit Blackwater business networking organisation which meets weekly at The Ely Hotel \nOur members represent businesses in Blackwater and Surrounding Areas and showcase the best from industries including Financial & Professional Services & Creative Industries \nBNI Blackwater Valley focus is on helping local small business owners to connect and build meaningful business relationships. Through its structured; supportive\, face to face business networking events\, local business owners can generate significant business for each other. \n___ \nFriday 09:30 AM \nThe Ely Hotel\, London Road\, Blackwater\, Hampshire\, GU17 9LJ \nRegister Now \n_____ \nOur leadership team is focused on creating the best networking group in Blackwater and contribute to wider business networking in Hampshire. \nThis group is ideal for business professionals in Camberley\, Blackwater\, Aldershot\, Yateley area who want to widen their networking opportunities in North Hampshire and meet new people grow their business through structured networking. \n  \nAbout Membership for BNI Blackwater Valley\nVisitors are permitted to attend up to a maximum of two meetings. \nVisitors who wish to register as a Member will be required to complete a membership application form\, from which the application form will be reviewed by the Leadership team. Membership is not guaranteed and based on an industry first come\, first serve basis. \n  \nFrequently Asked Questions About BNI Blackwater Valley\nHow much are visitor fees to attend?\nAs a visitor you maybe expected to pay a visitor fee which covers room hire and breakfast (where available). This can range from £10-£15 per visitor. Further details will be made available once your ticket is confirmed. \nWhat makes BNI Blackwater Valley different from other networking groups in Blackwater?\nBNI Blackwater Valley is a structured\, supportive group that pass qualified business referrals which are quality checked and tracked. No other networking groups come close in terms of the support that is offered. \nHow long will I get to talk about my business?\nAs a member of BNI you will get 60 seconds every week to talk about your business as well as a 10 minute slot on a 10 minute speaker rotation to educate other members about your business and who you are looking for in terms of referrals. \n 
URL:https://helpmegrow.co.uk/event/bni-blackwater-valley-camberley-business-networking-blackwater/
LOCATION:The Ely Hotel & Public House\, The Ely Public House\, London Road\, Blackwater\, Hampshire\, GU17 9LJ\, United Kingdom
CATEGORIES:Camberley Business Events,Networking Events
ATTACH;FMTTYPE=image/png:https://helpmegrow.co.uk/wp-content/uploads/2022/09/BNI.png
END:VEVENT
BEGIN:VEVENT
DTSTART;TZID=Europe/London:20230106T093000
DTEND;TZID=Europe/London:20230106T110000
DTSTAMP:20260422T073842
CREATED:20231201T195136Z
LAST-MODIFIED:20231211T194021Z
UID:11815-1672997400-1673002800@helpmegrow.co.uk
SUMMARY:BNI Blackwater Valley Farnborough Business Networking 2024
DESCRIPTION:BNI Blackwater Valley Camberley – Blackwater’s Leading Business Networking Event\nConnect and Grow your business with inspiring business owners from Blackwater and Surrounding area by joining BNI Blackwater Valley next networking event. \nOver the past 12 Months (October 2023) BNI BWV passed over £850\,000 worth of confirmed business to its members. \nIs that business you could be missing out on? \nBNI Blackwater Valley is a non-for-profit Blackwater business networking organisation which meets weekly at The Boardroom at Farnborough Masonic Centre\, 37 Alexandra Road\, Farnborough\, Hampshire\, Gu14 6BS \nOur members represent businesses in Blackwater and Surrounding Areas and showcase the best from industries including Financial & Professional Services & Creative Industries \nBNI Blackwater Valley focus is on helping local small business owners to connect and build meaningful business relationships. Through its structured; supportive\, face to face business networking events\, local business owners can generate significant business for each other. \n___ \nFriday 09:00 AM \nThe Boardroom at Farnborough Masonic Centre\, 37 Alexandra Road\, Farnborough\, Hampshire\, Gu14 6BS \nRegister Now \n_____ \nOur leadership team is focused on creating the best networking group in Blackwater and contribute to wider business networking in Hampshire. \nThis group is ideal for business professionals in Camberley\, Blackwater\, Aldershot\, Yateley area who want to widen their networking opportunities in North Hampshire and meet new people grow their business through structured networking. \n  \nAbout Membership for BNI Blackwater Valley\nVisitors are permitted to attend up to a maximum of two meetings. \nVisitors who wish to register as a Member will be required to complete a membership application form\, from which the application form will be reviewed by the Leadership team. Membership is not guaranteed and based on an industry first come\, first serve basis. \n  \nFrequently Asked Questions About BNI Blackwater Valley\nHow much are visitor fees to attend?\nAs a visitor you maybe expected to pay a visitor fee which covers room hire and breakfast (where available). This can range from £10-£15 per visitor. Further details will be made available once your ticket is confirmed. \nWhat makes BNI Blackwater Valley different from other networking groups in Blackwater?\nBNI Blackwater Valley is a structured\, supportive group that pass qualified business referrals which are quality checked and tracked. No other networking groups come close in terms of the support that is offered. \nHow long will I get to talk about my business?\nAs a member of BNI you will get 60 seconds every week to talk about your business as well as a 10 minute slot on a 10 minute speaker rotation to educate other members about your business and who you are looking for in terms of referrals. \n 
URL:https://helpmegrow.co.uk/event/bni-blackwater-valley-farnborough-business-networking-2024/
LOCATION:The Ely Hotel & Public House\, The Ely Public House\, London Road\, Blackwater\, Hampshire\, GU17 9LJ\, United Kingdom
CATEGORIES:Camberley Business Events,Networking Events
ATTACH;FMTTYPE=image/png:https://helpmegrow.co.uk/wp-content/uploads/2022/09/BNI.png
END:VEVENT
END:VCALENDAR