BEGIN:VCALENDAR
VERSION:2.0
PRODID:-//Help Me Grow - Small business coaching - ECPv6.15.17.1//NONSGML v1.0//EN
CALSCALE:GREGORIAN
METHOD:PUBLISH
X-WR-CALNAME:Help Me Grow - Small business coaching
X-ORIGINAL-URL:https://helpmegrow.co.uk
X-WR-CALDESC:Events for Help Me Grow - Small business coaching
REFRESH-INTERVAL;VALUE=DURATION:PT1H
X-Robots-Tag:noindex
X-PUBLISHED-TTL:PT1H
BEGIN:VTIMEZONE
TZID:Europe/London
BEGIN:DAYLIGHT
TZOFFSETFROM:+0000
TZOFFSETTO:+0100
TZNAME:BST
DTSTART:20230326T010000
END:DAYLIGHT
BEGIN:STANDARD
TZOFFSETFROM:+0100
TZOFFSETTO:+0000
TZNAME:GMT
DTSTART:20231029T010000
END:STANDARD
BEGIN:DAYLIGHT
TZOFFSETFROM:+0000
TZOFFSETTO:+0100
TZNAME:BST
DTSTART:20240331T010000
END:DAYLIGHT
BEGIN:STANDARD
TZOFFSETFROM:+0100
TZOFFSETTO:+0000
TZNAME:GMT
DTSTART:20241027T010000
END:STANDARD
BEGIN:DAYLIGHT
TZOFFSETFROM:+0000
TZOFFSETTO:+0100
TZNAME:BST
DTSTART:20250330T010000
END:DAYLIGHT
BEGIN:STANDARD
TZOFFSETFROM:+0100
TZOFFSETTO:+0000
TZNAME:GMT
DTSTART:20251026T010000
END:STANDARD
END:VTIMEZONE
BEGIN:VEVENT
DTSTART;TZID=Europe/London:20240116T180000
DTEND;TZID=Europe/London:20240116T200000
DTSTAMP:20260420T020223
CREATED:20231230T161818Z
LAST-MODIFIED:20231230T202648Z
UID:18428-1705428000-1705435200@helpmegrow.co.uk
SUMMARY:Entrepreneurs Circle Local Meeting
DESCRIPTION:Entrepreneurs Circle Local Meeting – Farnham & Guildford\nEntrepreneurs Circle Business Growth Workshop\n \nJoin us at the Entrepreneurs Circle Local Meeting for Farnham\, Camberley\, and Guildford\, where business owners gather to unlock the secrets of business and marketing success. \nOur host\, Business Coach and Marketing Consultant Jamie Morgan\, will lead the session. Jamie brings two decades of entrepreneurial expertise to the table\, and he’s here to help you navigate the ever-evolving business landscape. \nAt our meetings\, you’ll discover a wealth of knowledge and strategies to propel your local business forward. From mastering the art of digital marketing to leveraging the power of social media\, we cover it all. Learn from fellow entrepreneurs\, share your experiences\, and leave with actionable insights you can implement right away. \nBut it’s not just about learning; it’s about connecting. Forge valuable relationships with like-minded business owners right here in Farnham\, Camberley\, and Guildford. You’ll be part of a supportive community that understands the challenges of small business. \nAgenda: \n• Who’s Who in 22 – A round the table introduction of who’s who\, their business and any challenges they are facing at the moment. \n• Your Successes – A look back at the past moment and what’s gone well \n• The Shiny New Thing – introducing a new marketing or business tool to get to grips with  \n• Content Session – each month we’ll dive into a marketing technique or business strategy session – a mini masterclass. \n• Your One Commitment – time to set goals for the month ahead and we’ll hold you to them. \n—————————————————- \nYour Host \nJamie Morgan is a business coach and marketing specialist who works with businesses to help them crack the rhythmic acquisition of customers. \nHis implementation of the Entrepreneurs Marketing & Sales System into businesses boosts revenues and markedly improves profit. \nA serial entrepreneur and business owner for over two decades\, Jamie is a Fellow of the Institute of Enterprise and Entrepreneurs\, Entrepreneurs Circle Certified Coach and a member of the Chartered Institute of Marketing.
URL:https://helpmegrow.co.uk/event/entrepreneurs-circle-local-meeting-2024/
LOCATION:The Ivy Lane Club Farnham\, Ivy Lane\, Farnham\, Surrey\, GU97PQ\, United Kingdom
CATEGORIES:Camberley Business Events,Entrepreneurs Circle,Networking Events
ATTACH;FMTTYPE=image/png:https://helpmegrow.co.uk/wp-content/uploads/2022/11/Farnham-Facebook-Event-Cover-BGM.png
ORGANIZER;CN="Jamie Morgan - Business Coach & Mentor":MAILTO:jamie@helpmegrow.co.uk
END:VEVENT
BEGIN:VEVENT
DTSTART;TZID=Europe/London:20240327T100000
DTEND;TZID=Europe/London:20240327T160000
DTSTAMP:20260420T020223
CREATED:20231201T191434Z
LAST-MODIFIED:20231201T192304Z
UID:11794-1711533600-1711555200@helpmegrow.co.uk
SUMMARY:Surrey Business Expo 2024 | 27 March 2024
DESCRIPTION:Surrey Business Expo 2024\nThe Surrey Business Expo is set to celebrate its sixteenth consecutive year\, offering local businesses an exceptional opportunity to engage with potential customers face-to-face and to network with a large concentration of potential clients all in one location and on a single day. \nThis expo serves as an excellent platform to showcase and promote your business to a local audience. \nThe cost of stands is highly affordable\, and admission for attendees is free. \nWe hope you can join us on March 27 2024 at The Surrey Sports Park in Guildford for Surrey’s biggest business Exhibition.
URL:https://helpmegrow.co.uk/event/surrey-business-expo-2024-27-march-2024/
LOCATION:Surrey Sports Park\, Richard Meyjes Road\, Guildford\, Surrey\, GU2 7AD\, United Kingdom
CATEGORIES:Business Expos & Exhibitions
END:VEVENT
END:VCALENDAR